BEGIN:VCALENDAR
VERSION:2.0
PRODID:-//Riwega therm - ECPv4.6.8//NONSGML v1.0//EN
CALSCALE:GREGORIAN
METHOD:PUBLISH
X-WR-CALNAME:Riwega therm
X-ORIGINAL-URL:https://www.3therm.it
X-WR-CALDESC:Events for Riwega therm
BEGIN:VEVENT
DTSTART;VALUE=DATE:20221014
DTEND;VALUE=DATE:20221015
DTSTAMP:20260422T151256
CREATED:20220803T132231Z
LAST-MODIFIED:20221017T071203Z
UID:53062-1665705600-1665791999@www.3therm.it
SUMMARY:Timber Forum
DESCRIPTION:\n\n\n\n\n\n\n– Inspiring sostenibilità\, clima e megatrend\n– Le nuove opportunità di mercato e la transizione ecologica in edilizia\n– Il futuro dell’architettura in legno: città e decarbonizzazione\n– Contesto internazionale\, ESG e digitalizzazione\n\n\nRiwega\, 3therm e RoofRox ti aspettano!\n\n\n\n\n\n\n\n\n\n\n\n\n
URL:https://www.3therm.it/evento/timber-forum/
CATEGORIES:Eventi conclusi
ATTACH;FMTTYPE=image/jpeg:https://www.3therm.it/wp-content/uploads/2022/08/Logo-Timber-Forum.jpg
END:VEVENT
END:VCALENDAR