BEGIN:VCALENDAR
VERSION:2.0
PRODID:-//Riwega therm - ECPv4.6.8//NONSGML v1.0//EN
CALSCALE:GREGORIAN
METHOD:PUBLISH
X-WR-CALNAME:Riwega therm
X-ORIGINAL-URL:https://www.3therm.it
X-WR-CALDESC:Events for Riwega therm
BEGIN:VEVENT
DTSTART;VALUE=DATE:20180124
DTEND;VALUE=DATE:20180128
DTSTAMP:20260425T123606
CREATED:20180327T062428Z
LAST-MODIFIED:20180327T063021Z
UID:27992-1516752000-1517097599@www.3therm.it
SUMMARY:Timba plus
DESCRIPTION:[vc_row][vc_column] \nTimba plus\n[vc_column_text] \nLa fiera delle costruzioni in legno\nNuova. Innovativa. Orientata al futuro.Come il legno stesso!\nE’ il nuovo concetto di TIMBA + a Salisburgo.\nL’evento che si terrà dal 24 al 27 gennaio 2018 a Salisburgo tutta dedicata al legno. \nTi aspettiamo presso il nostro stand: \nHalle 10 Stand 0513 \n[/vc_column_text][/vc_column][/vc_row] \n
URL:https://www.3therm.it/evento/timba-plus/
LOCATION:Messezentrum 1\, 5021 Salzburg\, Austria
GEO:47.8236222;13.0284603
X-APPLE-STRUCTURED-LOCATION;VALUE=URI;X-ADDRESS=Messezentrum 1 5021 Salzburg Austria;X-APPLE-RADIUS=500;X-TITLE=Messezentrum 1:geo:13.0284603,47.8236222
CATEGORIES:Eventi conclusi
ATTACH;FMTTYPE=image/png:https://www.3therm.it/wp-content/uploads/2017/11/logo-Timba-plus.png
END:VEVENT
END:VCALENDAR