BEGIN:VCALENDAR
VERSION:2.0
PRODID:-//Riwega therm - ECPv4.6.8//NONSGML v1.0//EN
CALSCALE:GREGORIAN
METHOD:PUBLISH
X-WR-CALNAME:Riwega therm
X-ORIGINAL-URL:https://www.3therm.it
X-WR-CALDESC:Events for Riwega therm
BEGIN:VEVENT
DTSTART;VALUE=DATE:20170516
DTEND;VALUE=DATE:20170517
DTSTAMP:20260426T024449
CREATED:20180326T095240Z
LAST-MODIFIED:20180326T095240Z
UID:27885-1494892800-1494979199@www.3therm.it
SUMMARY:Seminario tecnico MIRTeC - Brescia
DESCRIPTION:[vc_row][vc_column] \nSeminario tecnico MIRTeC – Brescia\n[vc_column_text]Strategie integrate per la riqualificazione energetica e impiantistica. \nClicca per iscriverti[/vc_column_text][/vc_column][/vc_row] \n
URL:https://www.3therm.it/evento/seminario-tecnico-mirtec-brescia/
LOCATION:Via Orzinuovi 135/139\, Brescia\, Italia
GEO:45.5315478;10.1766614
X-APPLE-STRUCTURED-LOCATION;VALUE=URI;X-ADDRESS=Via Orzinuovi 135/139 Brescia Italia;X-APPLE-RADIUS=500;X-TITLE=Via Orzinuovi 135/139:geo:10.1766614,45.5315478
ATTACH;FMTTYPE=image/jpeg:https://www.3therm.it/wp-content/uploads/2017/11/asd2.jpg
END:VEVENT
END:VCALENDAR