BEGIN:VCALENDAR
VERSION:2.0
PRODID:-//Riwega therm - ECPv4.6.8//NONSGML v1.0//EN
CALSCALE:GREGORIAN
METHOD:PUBLISH
X-WR-CALNAME:Riwega therm
X-ORIGINAL-URL:https://www.3therm.it
X-WR-CALDESC:Events for Riwega therm
BEGIN:VEVENT
DTSTART;VALUE=DATE:20231019
DTEND;VALUE=DATE:20231022
DTSTAMP:20260422T115612
CREATED:20230712T123925Z
LAST-MODIFIED:20231023T065935Z
UID:55388-1697673600-1697932799@www.3therm.it
SUMMARY:SAIE Bari
DESCRIPTION:\n\nLa Fiera delle Costruzioni. Progettazione\, edilizia\, impianti.\n\n\n\n\n\nSAIE è la fiera che rappresenta la più grande community di imprese\, professionisti e associazioni del settore delle costruzioni.\nUn forte moltiplicatore commerciale per il mercato\, un momento di riflessione e confronto per il comparto e l’appuntamento di riferimento con gli operatori del settore per scoprire l’eccellenza di tutta la filiera delle costruzioni\, attraverso percorsi dedicati ai temi chiave della sostenibilità\, dell’innovazione\, dell’efficienza energetica\, della sicurezza e della trasformazione digitale.\n\nRiwega\, 3therm e RoofRox ti aspettano!\n\n\n\n\n\n\n
URL:https://www.3therm.it/evento/saie-bari/
LOCATION:Via di Maratona angolo Via Giuseppe Verdi\, Bari\, BA\, 70135\, Italia
CATEGORIES:Eventi conclusi
ATTACH;FMTTYPE=image/jpeg:https://www.3therm.it/wp-content/uploads/2023/07/Logo-SAIE-Bari.jpg
END:VEVENT
END:VCALENDAR