BEGIN:VCALENDAR
VERSION:2.0
PRODID:-//Riwega therm - ECPv4.6.8//NONSGML v1.0//EN
CALSCALE:GREGORIAN
METHOD:PUBLISH
X-WR-CALNAME:Riwega therm
X-ORIGINAL-URL:https://www.3therm.it
X-WR-CALDESC:Events for Riwega therm
BEGIN:VEVENT
DTSTART;TZID=UTC+2:20211014T143000
DTEND;TZID=UTC+2:20211015T183000
DTSTAMP:20260422T212844
CREATED:20211007T113627Z
LAST-MODIFIED:20211018T143125Z
UID:51530-1634221800-1634322600@www.3therm.it
SUMMARY:RIQUALIFICARE nZEB - Live on web
DESCRIPTION:nZEB Forum – Casi studio e tecnologie\nData: 14.10.2021 e 15.10.2021\nOrario: 14:30 – 18:30\nLive on web  \n Iscriviti al webinar  \n Scarica il programma  \n
URL:https://www.3therm.it/evento/riqualificare-nzeb-live-on-web/
CATEGORIES:Eventi conclusi
ATTACH;FMTTYPE=image/jpeg:https://www.3therm.it/wp-content/uploads/2021/10/nZEB-forum-DEM-14-15-10-2021-Ref_page-0001.jpg
ORGANIZER;CN="EdicomEventi":MAILTO:eventi@edicomeventi.com
END:VEVENT
END:VCALENDAR