BEGIN:VCALENDAR
VERSION:2.0
PRODID:-//Riwega therm - ECPv4.6.8//NONSGML v1.0//EN
CALSCALE:GREGORIAN
METHOD:PUBLISH
X-WR-CALNAME:Riwega therm
X-ORIGINAL-URL:https://www.3therm.it
X-WR-CALDESC:Events for Riwega therm
BEGIN:VEVENT
DTSTART;TZID=UTC+2:20180308T084500
DTEND;TZID=UTC+2:20180308T140000
DTSTAMP:20260425T155735
CREATED:20180327T094931Z
LAST-MODIFIED:20180327T095024Z
UID:28055-1520498700-1520517600@www.3therm.it
SUMMARY:La coibentazione a regola d'arte
DESCRIPTION:[vc_row][vc_column] \nQuando isolare vuol dire proteggersi dal caldo\, freddo\, rumore\, tutelando la salubrità degli ambienti\n[vc_column_text]Data: 08.03.2018\nOrario: 08:45 – 14:00\nLuogo: Riwega Training Center\, Via isola di Sopra 28\, 39044 Egna (BZ) \n  \nProgramma: \nore 8.45 – Apertura e benvenuto \nore 9.00 inizio corso \n– Riferimenti legislativi sul risparmio energetico in Italia\n– I 4 principi del comfort abitativo: comfort invernale\, comfort estivo\, comfort acustico\, traspirabilità delle strutture \nPausa caffè \n– La corretta coibentazione delle superfici opache\n– Prodotti in fibra di legno di nuova generazione per la coibentazione termoacustica di tetti e pareti\nore 13.00 Chiusura corso con consegna degli attestati di partecipazione e pranzo presso il Bistrò Riwega \n  \nCosto: € 50\,00 a persona. La quota d’iscrizione deve essere pagata al momento dell’adesione al corso. Verrà emessa da Riwega regolare fattura. Il pagamento deve essere effettuato in anticipo attraverso bonifico bancario a Cassa Rurale di Salorno – Fil. Egna\, IBAN IT48 B 08220 58371 000304001869 causale: nome partecipante e data corso.\nPosti disponibili: 30\nIscrizione entro: 06.03.2018\nAttestato di frequenza: Alla fine del corso sarà consegnato un attestato di partecipazione.[/vc_column_text]ISCRIZIONI CHIUSE[/vc_column][/vc_row] \n
URL:https://www.3therm.it/evento/la-coibentazione-a-regola-darte/
LOCATION:Via Isola di Sopra 28\, Egna (BZ)\, Italia
GEO:46.320883;11.2625844
X-APPLE-STRUCTURED-LOCATION;VALUE=URI;X-ADDRESS=Via Isola di Sopra 28 Egna (BZ) Italia;X-APPLE-RADIUS=500;X-TITLE=Via Isola di Sopra 28:geo:11.2625844,46.320883
ATTACH;FMTTYPE=image/jpeg:https://www.3therm.it/wp-content/uploads/2018/02/3therm-La-coibentazione-a-regola-darte-08.03.2018.jpg
END:VEVENT
END:VCALENDAR