BEGIN:VCALENDAR
VERSION:2.0
PRODID:-//Riwega therm - ECPv4.6.8//NONSGML v1.0//EN
CALSCALE:GREGORIAN
METHOD:PUBLISH
X-WR-CALNAME:Riwega therm
X-ORIGINAL-URL:https://www.3therm.it
X-WR-CALDESC:Events for Riwega therm
BEGIN:VEVENT
DTSTART;VALUE=DATE:20210127
DTEND;VALUE=DATE:20210130
DTSTAMP:20260423T005707
CREATED:20210105T150239Z
LAST-MODIFIED:20210201T074605Z
UID:43910-1611705600-1611964799@www.3therm.it
SUMMARY:Klimahouse 2021
DESCRIPTION:[vc_row][vc_column] \nKlimahouse goes digital\n[vc_column_text] \nCostruire bene\, vivere bene!\n\nLo slogan di Klimahouse non è mai stato tanto attuale quanto in questo periodo di pandemia. \nLa fiera organizza ogni giorno interventi tecnici\, presentazioni novità prodotto e molto altro\, dandovi la possibilità di interagire direttamente con il nostro team. \nMercoledì 27 gennaio dalle ore 11.00 alle ore 11.55 non perdere l’intervento del nostro Direttore Tecnico Sig. Claudio Pichler. \nVi aspettiamo! \n_______________________________________________________ \nVuoi maggiori informazioni per la richiesta di un biglietto omaggio? \nContatta il tuo Consulente Tecnico di zona! \n\n
URL:https://www.3therm.it/evento/klimahouse-2021/
CATEGORIES:Eventi conclusi
ATTACH;FMTTYPE=image/jpeg:https://www.3therm.it/wp-content/uploads/2021/01/Logo-KH-2021.jpg
END:VEVENT
END:VCALENDAR