BEGIN:VCALENDAR
VERSION:2.0
PRODID:-//Riwega therm - ECPv4.6.8//NONSGML v1.0//EN
CALSCALE:GREGORIAN
METHOD:PUBLISH
X-WR-CALNAME:Riwega therm
X-ORIGINAL-URL:https://www.3therm.it
X-WR-CALDESC:Events for Riwega therm
BEGIN:VEVENT
DTSTART;VALUE=DATE:20221122
DTEND;VALUE=DATE:20221123
DTSTAMP:20260422T145026
CREATED:20220914T130443Z
LAST-MODIFIED:20230113T132037Z
UID:53097-1669075200-1669161599@www.3therm.it
SUMMARY:Evento 4S
DESCRIPTION:L’evento formativo 4S propone lo svolgimento di 4 seminari\, accreditati dai vari ordini professionali. Le tematiche riguardano i vari sistemi costruttivi nel rispetto della traspirabilità\, sostenibilità\, accessibilità degli edifici\, utilizzando tecnologie innovative\, tramite un attento studio di idonee e corrette stratigrafie applicative. \nRiwega\, 3therm e RoofRox ti aspettano nel Centro Congressi Verona 1 – Salone Margherita!\n
URL:https://www.3therm.it/evento/evento-4s/
LOCATION:Viale del lavoro\, 8\, Verona\, VR\, 37135\, Italia
CATEGORIES:Eventi conclusi
ATTACH;FMTTYPE=image/jpeg:https://www.3therm.it/wp-content/uploads/2022/09/Logo-4S-Verona.jpg
END:VEVENT
END:VCALENDAR