BEGIN:VCALENDAR
VERSION:2.0
PRODID:-//Riwega therm - ECPv4.6.8//NONSGML v1.0//EN
CALSCALE:GREGORIAN
METHOD:PUBLISH
X-WR-CALNAME:Riwega therm
X-ORIGINAL-URL:https://www.3therm.it
X-WR-CALDESC:Events for Riwega therm
BEGIN:VEVENT
DTSTART;TZID=UTC+2:20180227T084500
DTEND;TZID=UTC+2:20180227T180000
DTSTAMP:20260425T180214
CREATED:20180327T084454Z
LAST-MODIFIED:20180329T135105Z
UID:28032-1519721100-1519754400@www.3therm.it
SUMMARY:Costruzioni all'avanguardia - focus sul tetto piano
DESCRIPTION:[vc_row][vc_column] \nCorso teorico per tecnici e progettisti\n[vc_column_text]Relatore: Ing Antonio Catalucci responsabile commerciale Planus \nData: 27.02.2018\nOrario: 08:45 – 18:00\nLuogo: RTC – Riwega Training Center\, Via Isola di Sopra 28 – 39044 Egna (BZ) \n  \nProgramma:\nore 8.45 – Apertura e Benvenuto \nore 9.00 – Inizio corso \n– Introduzione al tetto piano\n– Panoramica sistemi di impermeabilizzazione (Alwitra\, IKO) \nPausa caffè \n– Stratigrafie tetti piani verificate in regime dinamico (soluzioni con pacchetti Riwega e 3therm) \nore 13.00 – Pausa pranzo presso il Bistrò Riwega \nore 14.00 \n– Finiture\, profili estetici di lattoneria e cupolini per tetti piani e terrazze\n– Supporti per pavimenti flottanti in abbinamento a membrane impermeabilizzanti\n– Fissaggio meccanico dei sistemi di impermeabilizzazione: compatibilità con diverse tipologie costruttive e tecnologia a induzione \nPausa caffè \n– Elementi e sistemi di sicurezza per tetti piani: linea vita\, parapetti\, scale\n– Il tetto verde \nore 18.00 – Chiusura del corso e consegna degli attestati  \n  \n\nCosto: € 100\,00 a persona. La quota d’iscrizione deve essere pagata al momento dell’adesione al corso. Verrà emessa da Riwega regolare fattura. Il pagamento deve essere effettuato in anticipo attraverso bonifico bancario a Cassa Rurale di Salorno – Fil. Egna\, IBAN IT48 B 08220 58371 000304001869 causale: nome partecipante e data corso.\nPosti disponibili: 30\nIscrizione entro: 23.02.2018\nAttestato di frequenza: Alla fine del corso sarà consegnato un attestato di partecipazione \n\n[/vc_column_text]ISCRIZIONI CHIUSE[/vc_column][/vc_row] \n
URL:https://www.3therm.it/evento/costruzioni-allavanguardia-focus-sul-tetto-piano/
LOCATION:Via Isola di Sopra 28\, Egna (BZ)\, Italia
GEO:46.320883;11.2625844
X-APPLE-STRUCTURED-LOCATION;VALUE=URI;X-ADDRESS=Via Isola di Sopra 28 Egna (BZ) Italia;X-APPLE-RADIUS=500;X-TITLE=Via Isola di Sopra 28:geo:11.2625844,46.320883
ATTACH;FMTTYPE=image/jpeg:https://www.3therm.it/wp-content/uploads/2018/02/Costruzioni-allavanguardia-focus-sul-tetto-piano-27.02.jpg
END:VEVENT
END:VCALENDAR