BEGIN:VCALENDAR
VERSION:2.0
PRODID:-//Riwega therm - ECPv4.6.8//NONSGML v1.0//EN
CALSCALE:GREGORIAN
METHOD:PUBLISH
X-WR-CALNAME:Riwega therm
X-ORIGINAL-URL:https://www.3therm.it
X-WR-CALDESC:Events for Riwega therm
BEGIN:VEVENT
DTSTART;TZID=UTC+2:20231005T090000
DTEND;TZID=UTC+2:20231005T170000
DTSTAMP:20260420T003100
CREATED:20230821T114450Z
LAST-MODIFIED:20231016T122844Z
UID:55527-1696496400-1696525200@www.3therm.it
SUMMARY:CORSO TECNICO - L’involucro di ultima generazione: tetti piani\, verdi e facciate ventilate
DESCRIPTION:Data: 05.10.2023\nOrario: 09:00 – 17:00\nLuogo: Presso sede RoofRox – Via Lazio 14\, Lentate sul Seveso (MB) \n Iscriviti al corso \n Scarica il programma\n
URL:https://www.3therm.it/evento/corso-tecnico-linvolucro-di-ultima-generazione-tetti-piani-verdi-e-facciate-ventilate/
LOCATION:Via Lazio 14\, Lentate sul Seveso\, Monza Brianza\, 20823\, Italia
CATEGORIES:Eventi conclusi
ATTACH;FMTTYPE=image/jpeg:https://www.3therm.it/wp-content/uploads/2023/08/Corso-RoofRox-05_10_23-RoofRox.jpg
END:VEVENT
END:VCALENDAR