BEGIN:VCALENDAR
VERSION:2.0
PRODID:-//Riwega therm - ECPv4.6.8//NONSGML v1.0//EN
CALSCALE:GREGORIAN
METHOD:PUBLISH
X-WR-CALNAME:Riwega therm
X-ORIGINAL-URL:https://www.3therm.it
X-WR-CALDESC:Events for Riwega therm
BEGIN:VEVENT
DTSTART;TZID=UTC+2:20230915T090000
DTEND;TZID=UTC+2:20230915T170000
DTSTAMP:20260420T022833
CREATED:20230810T130752Z
LAST-MODIFIED:20230918T093054Z
UID:55514-1694768400-1694797200@www.3therm.it
SUMMARY:CORSO TECNICO - La casa in legno Ergepearl: dall’attacco a terra all’involucro ventilato
DESCRIPTION:Data: 15.09.2023\nOrario: 09:00 – 17:00\nLuogo: Presso sede RoofRox – Via Lazio 14\, Lentate sul Seveso (MB) \n Iscriviti al corso \n Scarica il programma\n
URL:https://www.3therm.it/evento/corso-tecnico-la-casa-in-legno-ergepearl-dallattacco-a-terra-allinvolucro-ventilato/
LOCATION:Via Lazio 14\, Lentate sul Seveso\, Monza Brianza\, 20823\, Italia
CATEGORIES:Eventi conclusi
ATTACH;FMTTYPE=image/jpeg:https://www.3therm.it/wp-content/uploads/2023/08/Corso-RoofRox-15_09_23-RoofRox.jpg
END:VEVENT
END:VCALENDAR