BEGIN:VCALENDAR
VERSION:2.0
PRODID:-//Riwega therm - ECPv4.6.8//NONSGML v1.0//EN
CALSCALE:GREGORIAN
METHOD:PUBLISH
X-WR-CALNAME:Riwega therm
X-ORIGINAL-URL:https://www.3therm.it
X-WR-CALDESC:Events for Riwega therm
BEGIN:VEVENT
DTSTART;TZID=UTC+2:20220921T143000
DTEND;TZID=UTC+2:20220921T183000
DTSTAMP:20260422T164659
CREATED:20220526T072938Z
LAST-MODIFIED:20220711T064141Z
UID:52943-1663770600-1663785000@www.3therm.it
SUMMARY:Convegno posa cappotti ETICS seconda norma UNI 11716/2018
DESCRIPTION:\n\nOrdine Architetti PPC Provincia di Varese\n\n\n\n\nData: 22.06.2022\nOrario: 14:30 – 18:30 \nInfo iscrizioni: segreteria@ordinearchitettivarese.it \n\n\n
URL:https://www.3therm.it/evento/convegno-posa-cappotti-etics-seconda-norma-uni-11716-2018/
LOCATION:Piazza Libertà 1\, Varese\, Varese\, Italia
CATEGORIES:Eventi conclusi
ATTACH;FMTTYPE=image/jpeg:https://www.3therm.it/wp-content/uploads/2022/05/OAV_POSA-CAPPOTTI.jpg
END:VEVENT
END:VCALENDAR