BEGIN:VCALENDAR
VERSION:2.0
PRODID:-//Riwega therm - ECPv4.6.8//NONSGML v1.0//EN
CALSCALE:GREGORIAN
METHOD:PUBLISH
X-WR-CALNAME:Riwega therm
X-ORIGINAL-URL:https://www.3therm.it
X-WR-CALDESC:Events for Riwega therm
BEGIN:VEVENT
DTSTART;TZID=UTC+2:20221025T143000
DTEND;TZID=UTC+2:20221025T183000
DTSTAMP:20260422T163432
CREATED:20221007T091411Z
LAST-MODIFIED:20230113T132050Z
UID:53136-1666708200-1666722600@www.3therm.it
SUMMARY:Convegno posa cappotti ETICS seconda norma UNI 11716/2018
DESCRIPTION:\n\nOrdine Architetti PPC Provincia di Varese\n\n\n\n\nData: 25.10.2022\nOrario: 14:30 – 18:30 \n Scarica il programma\n\n\n
URL:https://www.3therm.it/evento/convegno-posa-cappotti-etics-seconda-norma-uni-11716-2018-2/
CATEGORIES:Eventi conclusi
ATTACH;FMTTYPE=image/jpeg:https://www.3therm.it/wp-content/uploads/2022/10/OAV_locandine-POSA-CAPPOTTI-POSA-SERRAMENTI-COPERTURE-DISCONTINUE_page-0001.jpg
END:VEVENT
END:VCALENDAR