BEGIN:VCALENDAR
VERSION:2.0
PRODID:-//Riwega therm - ECPv4.6.8//NONSGML v1.0//EN
CALSCALE:GREGORIAN
METHOD:PUBLISH
X-WR-CALNAME:Riwega therm
X-ORIGINAL-URL:https://www.3therm.it
X-WR-CALDESC:Events for Riwega therm
BEGIN:VEVENT
DTSTART;TZID=UTC+2:20180111T180000
DTEND;TZID=UTC+2:20180111T200000
DTSTAMP:20260425T180034
CREATED:20180328T080852Z
LAST-MODIFIED:20180328T081846Z
UID:28180-1515693600-1515700800@www.3therm.it
SUMMARY:Come costruire una CasaClima
DESCRIPTION:[vc_row][vc_column]Come costruire una CasaClima \nCiclo di 8 incontri formativi rivolti ad imprese e artigiani\n[vc_column_text]8 incontri serali per conoscere la qualità del “costruire sostenibile”\, entrando nello specifico delle varie fasi di progettazione e costruzione di un edificio ad alta efficienza energetica\, certificato CasaClima. \n  \nProgramma: \nGiovedì 11 gennaio – ore 18.00/20.00\nIL PROGETTO CASACLIMA – INTRODUZIONE \nGiovedì 18 gennaio – ore 18.00/21.00\nFONDAZIONI\, ATTACCO A TERRA E PONTI TERMICI \nGiovedì 1 febbraio – ore 18.00/21.00\nSISTEMI COSTRUTTIVI \nGiovedì 8 febbraio – ore 18.00/21.00\nI SISTEMI DI ISOLAMENTO A CAPPOTTO \nGiovedì 15 febbraio – ore 18.00/21.00\nSERRAMENTI \nGiovedì 22 febbraio – ore 18.00/21.00\nTETTO \nGiovedì 1 marzo – ore 18.00/21.00\nIMPIANTI \nGiovedì 8 marzo – ore 18.00/21.00\nVMC E BLOWER DOOR TEST[/vc_column_text][/vc_column][/vc_row] \n
URL:https://www.3therm.it/evento/come-costruire-una-casaclima/2018-01-11/
LOCATION:Via degli Artigiani 10\, Mondovì\, Italia
GEO:44.3983126;7.8196724
X-APPLE-STRUCTURED-LOCATION;VALUE=URI;X-ADDRESS=Via degli Artigiani 10 Mondovì Italia;X-APPLE-RADIUS=500;X-TITLE=Via degli Artigiani 10:geo:7.8196724,44.3983126
ATTACH;FMTTYPE=image/jpeg:https://www.3therm.it/wp-content/uploads/2018/03/Locandina-Come-costruire-una-CasaClima.jpg
END:VEVENT
END:VCALENDAR