BEGIN:VCALENDAR
VERSION:2.0
PRODID:-//Riwega therm - ECPv4.6.8//NONSGML v1.0//EN
CALSCALE:GREGORIAN
METHOD:PUBLISH
X-WR-CALNAME:Riwega therm
X-ORIGINAL-URL:https://www.3therm.it
X-WR-CALDESC:Events for Riwega therm
BEGIN:VEVENT
DTSTART;VALUE=DATE:20171106
DTEND;VALUE=DATE:20171112
DTSTAMP:20260425T233221
CREATED:20180326T125350Z
LAST-MODIFIED:20180326T125350Z
UID:27951-1509926400-1510444799@www.3therm.it
SUMMARY:Batimat di Parigi 2017
DESCRIPTION:[vc_row][vc_column] \nLa principale esposizione della costruzione al mondo\n[vc_column_text] \nTorna la fiera internazionale della costruzione Batimat di Parigi.\nAprirà i battenti il 6 novembre e Riwega non mancherà a questo importante appuntamento.\nSarà una coinvolgente esperienza ed un’ottima occasione per incontrarci.\nVenite a trovarci in:Hall 6\nAisle L\nStand Nr. 80\nSector 12 \nLe novità Riwega vi aspettano! \nwww.batimat.com \n\n[/vc_column_text][/vc_column][/vc_row] \n
URL:https://www.3therm.it/evento/batimat-di-parigi-2017/
LOCATION:ZAC Paris Nord 2\, 93420 Villepinte\, Francia
GEO:48.972348;2.516543
X-APPLE-STRUCTURED-LOCATION;VALUE=URI;X-ADDRESS=ZAC Paris Nord 2 93420 Villepinte Francia;X-APPLE-RADIUS=500;X-TITLE=ZAC Paris Nord 2:geo:2.516543,48.972348
CATEGORIES:Eventi conclusi
ATTACH;FMTTYPE=image/png:https://www.3therm.it/wp-content/uploads/2017/11/logo-2.png
END:VEVENT
END:VCALENDAR