BEGIN:VCALENDAR
VERSION:2.0
PRODID:-//Riwega therm - ECPv4.6.8//NONSGML v1.0//EN
CALSCALE:GREGORIAN
METHOD:PUBLISH
X-WR-CALNAME:Riwega therm
X-ORIGINAL-URL:https://www.3therm.it
X-WR-CALDESC:Events for Riwega therm
BEGIN:VEVENT
DTSTART;TZID=UTC+2:20240529T083000
DTEND;TZID=UTC+2:20240529T160000
DTSTAMP:20260422T090030
CREATED:20240517T065643Z
LAST-MODIFIED:20240603T111559Z
UID:57363-1716971400-1716998400@www.3therm.it
SUMMARY:Arca in Tour – Desenzano del Garda
DESCRIPTION:Data: 29.05.2024\nOrario: 08:30 – 16:00\nLuogo: PALACE HOTEL\, Viale F. Agello\, 114A\, 25015 Desenzano del Garda (BS) \n Iscriviti \n Scarica il programma\n
URL:https://www.3therm.it/evento/arca-in-tour-desenzano-del-garda/
LOCATION:Viale F. Agello\, 114A\, Desenzano del Garda\, Brescia\, 25015\, Italia
CATEGORIES:Eventi conclusi
ATTACH;FMTTYPE=image/jpeg:https://www.3therm.it/wp-content/uploads/2024/05/ARCAinTour2024-28_05-3therm.jpg
END:VEVENT
END:VCALENDAR