BEGIN:VCALENDAR
VERSION:2.0
PRODID:-//Riwega therm - ECPv4.6.8//NONSGML v1.0//EN
CALSCALE:GREGORIAN
METHOD:PUBLISH
X-WR-CALNAME:Riwega therm
X-ORIGINAL-URL:https://www.3therm.it
X-WR-CALDESC:Events for Riwega therm
BEGIN:VEVENT
DTSTART;VALUE=DATE:20231010
DTEND;VALUE=DATE:20231012
DTSTAMP:20260420T002525
CREATED:20220803T131528Z
LAST-MODIFIED:20231012T062312Z
UID:53057-1696896000-1697068799@www.3therm.it
SUMMARY:11° Forum dell’Edilizia in Legno
DESCRIPTION:\n\nCostruzioni in legno: dalla pratica alla pratica!\n\n\n\n\n\nIl Forum Internazionale dell’Edilizia in Legno 2023 offre ad architetti\, progettisti\, responsabili degli enti preposti al controllo e alla supervisione delle opere edili\, costruttori\, artigiani\, esperti e addetti alla formazione l’opportunità di ottenere e scambiare informazioni su e conoscenze di vari ambiti\, tra cui l’edilizia moderna in legno\, l’efficienza energetica e le energie rinnovabili.\n\nRiwega\, 3therm e RoofRox ti aspettano!\n\n\n\n\n\n\n
URL:https://www.3therm.it/evento/11-forum-delledilizia-in-legno/
LOCATION:Via Brusà\, 16/17\, Pacengo\, VR\, 37017\, Italia
CATEGORIES:Eventi conclusi
ATTACH;FMTTYPE=image/jpeg:https://www.3therm.it/wp-content/uploads/2021/08/Logo-Forum-Lazise.jpg
END:VEVENT
END:VCALENDAR