BEGIN:VCALENDAR
VERSION:2.0
PRODID:-//Riwega therm - ECPv4.6.8//NONSGML v1.0//EN
CALSCALE:GREGORIAN
METHOD:PUBLISH
X-WR-CALNAME:Riwega therm
X-ORIGINAL-URL:https://www.3therm.it/de
X-WR-CALDESC:Events for Riwega therm
BEGIN:VEVENT
DTSTART;VALUE=DATE:20220426
DTEND;VALUE=DATE:20220429
DTSTAMP:20260422T164813
CREATED:20220118T140424Z
LAST-MODIFIED:20221005T104633Z
UID:52592-1650931200-1651190399@www.3therm.it
SUMMARY:REBUILD
DESCRIPTION:\n\n\nRiwega\, 3therm und Roofrox nehmen als Aussteller an der REBUILD in Madrid teil.\n\nREBUILD hat sich als die Fachmesse etabliert\, die den Wandel der Baufilosophie vorantreibt und fördert. Ein Wandel\, der sich in den kommenden Jahren durch Industrialisierung\, Digitalisierung\, Design und verschiedene Lösungen im Hinblick auf die Nachhaltigkeit verstärken wird.\n\n\nWir erwarten Sie auf unserem Stand G772.\n\n\n  \n
URL:https://www.3therm.it/de/evento/rebuild/
LOCATION:Av. Partenón 5\, Madrid\, 28042\, Spagna
CATEGORIES:Vergangene Events
ATTACH;FMTTYPE=image/jpeg:https://www.3therm.it/wp-content/uploads/2022/01/Logo-Rebuild.jpg
END:VEVENT
END:VCALENDAR