BEGIN:VCALENDAR
VERSION:2.0
PRODID:-//Riwega therm - ECPv4.6.8//NONSGML v1.0//EN
CALSCALE:GREGORIAN
METHOD:PUBLISH
X-WR-CALNAME:Riwega therm
X-ORIGINAL-URL:https://www.3therm.it/de
X-WR-CALDESC:Events for Riwega therm
BEGIN:VEVENT
DTSTART;VALUE=DATE:20230509
DTEND;VALUE=DATE:20230511
DTSTAMP:20260420T055112
CREATED:20230329T130216Z
LAST-MODIFIED:20231130T144713Z
UID:54606-1683590400-1683763199@www.3therm.it
SUMMARY:REbuild
DESCRIPTION:REbuild wurde ins Leben gerufen\, um das Zusammentreffen und den Erfahrungsaustausch zwischen allen Akteuren der Bau-Lieferkette zu fördern: von der Forschung bis zur Immobilienverwaltung. Sie wählt die besten Köpfe\, Visionen und Ressourcen für die Gestaltung der Zukunft unseres Wohnens aus. Und bringt sie zusammen.\n\nRiwega\, 3therm und RoofRox erwarten Sie!\n
URL:https://www.3therm.it/de/evento/rebuild-2/
LOCATION:Loc. Parco Lido\, Riva del Garda\, TN\, 38066\, Italia
CATEGORIES:Vergangene Events
ATTACH;FMTTYPE=image/jpeg:https://www.3therm.it/wp-content/uploads/2023/03/Logo-REbuild.jpg
END:VEVENT
END:VCALENDAR