BEGIN:VCALENDAR
VERSION:2.0
PRODID:-//Riwega therm - ECPv4.6.8//NONSGML v1.0//EN
CALSCALE:GREGORIAN
METHOD:PUBLISH
X-WR-CALNAME:Riwega therm
X-ORIGINAL-URL:https://www.3therm.it/de
X-WR-CALDESC:Events for Riwega therm
BEGIN:VEVENT
DTSTART;TZID=UTC+2:20171117T140000
DTEND;TZID=UTC+2:20171117T180000
DTSTAMP:20260425T194751
CREATED:20180327T131850Z
LAST-MODIFIED:20180327T132147Z
UID:28126-1510927200-1510941600@www.3therm.it
SUMMARY:KURSEINLADUNG UNTERWEISUNG IM UMGANG MIT PSA (persönliche Schutzausrüstung)
DESCRIPTION:[vc_row][vc_column]GEGEN ABSTURZ UND AUFFSCHRISCHUNGSKURS FÜR ARBEITSSICHERHEIT! \nDer Kurs richtet sich an alle Unternehmen und deren Angestellte\, die täglich am Bau mit persönlicher Schutzausrüstung arbeiten.Auch bieten wir erstmals die Möglichkeit\, sich diesen Kurs als Auffschrischungskurs für Arbeitssicherheit\, im Sinne des Staat-Regionen-Abkommens vom 21.12.2011 – 6 Stunden\, anrechnen zu lassen. Hierbei wird der Kurs um 2 Stunden verlängert und Herr Martin Ceolan\, vom Unternehmen Se – Securexpert wird die Unterweisung durchführen. Achtung: Gilt nicht als Grundunterweisung\, nur als Auffschrischungskurs! \n[vc_column_text]Datum: 17.11.2017\nUhrzeit: 14:00 – 18:00\nOrt: Riwega GmbH – Obere Insel Straβe 28\, 39044 Neumarkt (BZ) \n  \nBeschreibung:\n13.50    Anmeldung der Kursteilnehmer \n14.00     Einführung in die europäischen Richtlinien und Prüfnormen\, Kennzeichnung von PSA gegen Absturz sowie Anwendungsbeispiele zum Halten und Retten unter Berücksichtigung horizontaler und vertikaler Verwendung \nReferent: Ulrich Schwingshackl\n16.00     Kaffeepause \n16.20     Verwendungsdauer und Prüffristen von PSA\, praktische Anwendungsbeispiele\nReferent: Ulrich Schwingshackl \n18.00     Vertiefung der rechtlichen Bestimmungen\nReferent: Martin Ceolan \n19.00    Neue Risikoquellen und Schutzmaßnahmen\nReferent: Martin Ceolan \n20.00    Abschluss und Verteilung der Teilnahmezertifikate \n  \nPreis: Der PSA- Kurs ist kostenlos\, sollten Sie auch am Auffrischungskurs für Arbeitssicherheit Interesse haben\, gilt ein Kostenbeitrag von 35€\, der nach erfolgter Anmeldung\, mittels Banküberweisung\, vorab bezahlt werden kann.\nMax. Teilnehmer: 30\nAnmeldeschluss: 16.11.2017\nTeilnahmebestätigung: Nach dem Kurs wird Ihnen auch ein Teilnahmezertifikat ausgehändigt.[/vc_column_text][/vc_column][/vc_row] \n
URL:https://www.3therm.it/de/evento/kurseinladung-unterweisung-im-umgang-mit-psa-persoenliche-schutzausruestung/
LOCATION:Via Isola di Sopra 28\, Egna (BZ)\, Italia
GEO:46.320883;11.2625844
X-APPLE-STRUCTURED-LOCATION;VALUE=URI;X-ADDRESS=Via Isola di Sopra 28 Egna (BZ) Italia;X-APPLE-RADIUS=500;X-TITLE=Via Isola di Sopra 28:geo:11.2625844,46.320883
ATTACH;FMTTYPE=image/jpeg:https://www.3therm.it/wp-content/uploads/2018/03/eventi.jpg
END:VEVENT
END:VCALENDAR