BEGIN:VCALENDAR
VERSION:2.0
PRODID:-//Riwega therm - ECPv4.6.8//NONSGML v1.0//EN
CALSCALE:GREGORIAN
METHOD:PUBLISH
X-WR-CALNAME:Riwega therm
X-ORIGINAL-URL:https://www.3therm.it/de
X-WR-CALDESC:Events for Riwega therm
BEGIN:VEVENT
DTSTART;VALUE=DATE:20200122
DTEND;VALUE=DATE:20200126
DTSTAMP:20260423T024058
CREATED:20191128T083529Z
LAST-MODIFIED:20210513T095616Z
UID:50827-1579651200-1579996799@www.3therm.it
SUMMARY:Klimahouse 2020
DESCRIPTION:[vc_row][vc_column] \nKlimahouse 2020\n[vc_column_text] \n\n[/vc_column_text][/vc_column][/vc_row][vc_row][vc_column][/vc_column][/vc_row] \n
URL:https://www.3therm.it/de/evento/klimahouse-2020/
LOCATION:Piazza Fiera 1 I\, Bolzano\, BZ\, 39100\, Italia
GEO:46.4718564;11.3268727
X-APPLE-STRUCTURED-LOCATION;VALUE=URI;X-ADDRESS=Piazza Fiera 1 I Bolzano BZ 39100 Italia;X-APPLE-RADIUS=500;X-TITLE=Piazza Fiera 1 I:geo:11.3268727,46.4718564
CATEGORIES:Vergangene Events
ATTACH;FMTTYPE=image/png:https://www.3therm.it/wp-content/uploads/2019/11/Logo-KH-2020.png
END:VEVENT
END:VCALENDAR