BEGIN:VCALENDAR
VERSION:2.0
PRODID:-//Riwega therm - ECPv4.6.8//NONSGML v1.0//EN
CALSCALE:GREGORIAN
METHOD:PUBLISH
X-WR-CALNAME:Riwega therm
X-ORIGINAL-URL:https://www.3therm.it/de
X-WR-CALDESC:Events for Riwega therm
BEGIN:VEVENT
DTSTART;TZID=UTC+2:20190123T090000
DTEND;TZID=UTC+2:20190126T180000
DTSTAMP:20260423T024743
CREATED:20180719T121503Z
LAST-MODIFIED:20180719T122050Z
UID:33054-1548234000-1548525600@www.3therm.it
SUMMARY:Klimahouse 2019
DESCRIPTION:[vc_row][vc_column] \nDIE RICHTIGE WAHL FÜR EINE BESSERE ZUKUNFT\n[vc_column_text]Wir bereiten uns auf das Event des Jahres vor!\nDie Klimahouse Messe ist ein internationales Event mit Schwerpunkt auf energetisches Bauen und Sanieren.\nWir erwarten Sie auf unserem Messestand B07/20.\n[/vc_column_text][/vc_column][/vc_row] \n
URL:https://www.3therm.it/de/evento/klimahouse-2019/
LOCATION:Piazza Fiera 1 I\, Bolzano\, BZ\, 39100\, Italia
GEO:46.4718564;11.3268727
X-APPLE-STRUCTURED-LOCATION;VALUE=URI;X-ADDRESS=Piazza Fiera 1 I Bolzano BZ 39100 Italia;X-APPLE-RADIUS=500;X-TITLE=Piazza Fiera 1 I:geo:11.3268727,46.4718564
ATTACH;FMTTYPE=image/jpeg:https://www.3therm.it/wp-content/uploads/2018/07/klimahouse_2019.jpg
END:VEVENT
END:VCALENDAR