BEGIN:VCALENDAR
VERSION:2.0
PRODID:-//Riwega therm - ECPv4.6.8//NONSGML v1.0//EN
CALSCALE:GREGORIAN
METHOD:PUBLISH
X-WR-CALNAME:Riwega therm
X-ORIGINAL-URL:https://www.3therm.it/de
X-WR-CALDESC:Events for Riwega therm
BEGIN:VEVENT
DTSTART;VALUE=DATE:20230308
DTEND;VALUE=DATE:20230312
DTSTAMP:20260422T085805
CREATED:20230113T132918Z
LAST-MODIFIED:20231130T144727Z
UID:54476-1678233600-1678579199@www.3therm.it
SUMMARY:Klimahouse
DESCRIPTION:Die richtige Wahl für eine bessere Zukunft! \nWir bereiten uns auf das Event des Jahres vor!\nDie Klimahouse Messe ist ein internationales Event mit Schwerpunkt auf energetisches Bauen und Sanieren.\nRiwega\, 3therm und RoofRox erwarten Sie auf unserem Stand B07/20-24. \n
URL:https://www.3therm.it/de/evento/klimahouse-2/
LOCATION:Piazza Fiera 1 I\, Bolzano\, BZ\, 39100\, Italia
GEO:46.4718564;11.3268727
X-APPLE-STRUCTURED-LOCATION;VALUE=URI;X-ADDRESS=Piazza Fiera 1 I Bolzano BZ 39100 Italia;X-APPLE-RADIUS=500;X-TITLE=Piazza Fiera 1 I:geo:11.3268727,46.4718564
CATEGORIES:Vergangene Events
ATTACH;FMTTYPE=image/jpeg:https://www.3therm.it/wp-content/uploads/2023/01/Logo-KH-2023.jpg
END:VEVENT
END:VCALENDAR