BEGIN:VCALENDAR
VERSION:2.0
PRODID:-//Riwega therm - ECPv4.6.8//NONSGML v1.0//EN
CALSCALE:GREGORIAN
METHOD:PUBLISH
X-WR-CALNAME:Riwega therm
X-ORIGINAL-URL:https://www.3therm.it/de
X-WR-CALDESC:Events for Riwega therm
BEGIN:VEVENT
DTSTART;VALUE=DATE:20220428
DTEND;VALUE=DATE:20220430
DTSTAMP:20260422T151906
CREATED:20220118T143914Z
LAST-MODIFIED:20221005T104627Z
UID:52604-1651104000-1651276799@www.3therm.it
SUMMARY:Forum Holzbau - 6. Bauphysik & Gebäudetechnik Tage
DESCRIPTION:Riwega\, 3therm und Roofrox nehmen als Aussteller am Forum Holzbau in Rosenheim teil.\n\nDas Holzbau-Forum bietet Holzbauern\, Planern\, Ingenieuren sowie Architekten die Gelegenheit über Erfahrungen\, Arbeiten und Ziele mit Holztragwerken bzw. Holzkonstruktionen zu berichten.\n  \n
URL:https://www.3therm.it/de/evento/forum-holzbau-6-bauphysik-gebaudetechnik-tage/
LOCATION:Kufsteiner Straße 4\, Rosenheim\, 83022\, Germania
CATEGORIES:Vergangene Events
ATTACH;FMTTYPE=image/jpeg:https://www.3therm.it/wp-content/uploads/2022/01/Logo-Forum-Holzbau-Garmisch-web.jpg
END:VEVENT
END:VCALENDAR