BEGIN:VCALENDAR
VERSION:2.0
PRODID:-//Riwega therm - ECPv4.6.8//NONSGML v1.0//EN
CALSCALE:GREGORIAN
METHOD:PUBLISH
X-WR-CALNAME:Riwega therm
X-ORIGINAL-URL:https://www.3therm.it/de
X-WR-CALDESC:Events for Riwega therm
BEGIN:VEVENT
DTSTART;VALUE=DATE:20230505
DTEND;VALUE=DATE:20230508
DTSTAMP:20260420T072700
CREATED:20230419T104120Z
LAST-MODIFIED:20231130T144722Z
UID:54638-1683244800-1683503999@www.3therm.it
SUMMARY:Expotorre
DESCRIPTION:Expotorre ein einzigartiges Ereignis\, für die professionelle und die breite Öffentlichkeit\, Haus\, Wirtschaft\, Landwirtschaft\, Industrie\, Heizung\, Isolierung\, alternative Energien\, Ökologie\, Bedachung\, Klima\, Brunnen\, Schwimmbäder\, Wasser-Rückgewinnung\, Baumaterialien\, Hausautomation\, Beleuchtung und elektrische Geräte gewidmet.\n\nRiwega\, 3therm und RoofRox erwarten Sie!\n
URL:https://www.3therm.it/de/evento/expotorre/
LOCATION:uscita La Loggia SS per Saluzzo\, km 29\, Torre San Giorgio\, CN\, Italia
CATEGORIES:Vergangene Events
ATTACH;FMTTYPE=image/jpeg:https://www.3therm.it/wp-content/uploads/2023/04/Logo-Expotorre.jpg
END:VEVENT
END:VCALENDAR