BEGIN:VCALENDAR
VERSION:2.0
PRODID:-//Riwega therm - ECPv4.6.8//NONSGML v1.0//EN
CALSCALE:GREGORIAN
METHOD:PUBLISH
X-WR-CALNAME:Riwega therm
X-ORIGINAL-URL:https://www.3therm.it/de
X-WR-CALDESC:Events for Riwega therm
BEGIN:VEVENT
DTSTART;VALUE=DATE:20221122
DTEND;VALUE=DATE:20221123
DTSTAMP:20260422T115550
CREATED:20220914T130443Z
LAST-MODIFIED:20231130T144738Z
UID:53108-1669075200-1669161599@www.3therm.it
SUMMARY:Forum 4S
DESCRIPTION:Das Forum 4S sieht die Durchführung von 4 Seminaren vor\, die von verschiedenen Berufsverbänden akkreditiert sind. Die Themen betreffen verschiedene Bausysteme im Hinblick auf Nachhaltigkeit\, Zugänglichkeit von Gebäuden\, unter Verwendung innovativer Technologien und durch eine sorgfältige Untersuchung geeigneter und korrekter Anwendungsschichten. \nRiwega\, 3therm und RoofRox erwarten Sie im Kongresszentrum Verona 1 – Salone Margherita!\n
URL:https://www.3therm.it/de/evento/evento-4s/
LOCATION:Viale del lavoro\, 8\, Verona\, VR\, 37135\, Italia
CATEGORIES:Vergangene Events
ATTACH;FMTTYPE=image/jpeg:https://www.3therm.it/wp-content/uploads/2022/09/Logo-4S-Verona.jpg
END:VEVENT
END:VCALENDAR