BEGIN:VCALENDAR
VERSION:2.0
PRODID:-//Riwega therm - ECPv4.6.8//NONSGML v1.0//EN
CALSCALE:GREGORIAN
METHOD:PUBLISH
X-WR-CALNAME:Riwega therm
X-ORIGINAL-URL:https://www.3therm.it/de
X-WR-CALDESC:Events for Riwega therm
BEGIN:VEVENT
DTSTART;VALUE=DATE:20171106
DTEND;VALUE=DATE:20171112
DTSTAMP:20260425T213548
CREATED:20180326T125350Z
LAST-MODIFIED:20180327T130033Z
UID:28122-1509926400-1510444799@www.3therm.it
SUMMARY:Batimat in Paris 2017
DESCRIPTION:[vc_row][vc_column] \nBatimat in Paris\n[vc_column_text] \n\nAuch bei der diesjährigen Ausgabe der Messe Batimat in Paris wird Firma Riwega ihre Produktneuheiten vorstellen. \nBesuchen Sie unseren Stand in: \nStand B07/20 \nWir freuen uns auf Ihren Besuch! \n\n[/vc_column_text][/vc_column][/vc_row] \n
URL:https://www.3therm.it/de/evento/batimat-di-parigi-2017/
LOCATION:ZAC Paris Nord 2\, 93420 Villepinte\, Francia
GEO:48.972348;2.516543
X-APPLE-STRUCTURED-LOCATION;VALUE=URI;X-ADDRESS=ZAC Paris Nord 2 93420 Villepinte Francia;X-APPLE-RADIUS=500;X-TITLE=ZAC Paris Nord 2:geo:2.516543,48.972348
ATTACH;FMTTYPE=image/png:https://www.3therm.it/wp-content/uploads/2017/11/logo-2.png
END:VEVENT
END:VCALENDAR