BEGIN:VCALENDAR
VERSION:2.0
PRODID:-//Riwega therm - ECPv4.6.8//NONSGML v1.0//EN
CALSCALE:GREGORIAN
METHOD:PUBLISH
X-WR-CALNAME:Riwega therm
X-ORIGINAL-URL:https://www.3therm.it/de
X-WR-CALDESC:Events for Riwega therm
BEGIN:VEVENT
DTSTART;VALUE=DATE:20211013
DTEND;VALUE=DATE:20211016
DTSTAMP:20260422T200510
CREATED:20210825T143146Z
LAST-MODIFIED:20211126T080230Z
UID:51462-1634083200-1634342399@www.3therm.it
SUMMARY:ARTIBAT - Rennes
DESCRIPTION:ARTIBAT – Rennes\n  \nDie Baumesse BtoB\n\nDie ARTIBAT ist eine Referenzmesse\, die neue Produkte vorstellt und Fachleuten die Möglichkeit bietet\, sich über neue Trends und technische Innovationen in der Bauindustrie zu informieren.\n\nRiwega\, 3therm und RoofRox erwarten Sie!\n\n
URL:https://www.3therm.it/de/evento/artibat-rennes/
CATEGORIES:Vergangene Events
ATTACH;FMTTYPE=image/jpeg:https://www.3therm.it/wp-content/uploads/2021/08/Logo-Artibat.jpg
END:VEVENT
END:VCALENDAR